BEGIN:VCALENDAR
VERSION:2.0
PRODID:-// - ECPv6.15.20//NONSGML v1.0//EN
CALSCALE:GREGORIAN
METHOD:PUBLISH
X-ORIGINAL-URL:https://gewerkschaftenbern.ch
X-WR-CALDESC:Veranstaltungen für 
REFRESH-INTERVAL;VALUE=DURATION:PT1H
X-Robots-Tag:noindex
X-PUBLISHED-TTL:PT1H
BEGIN:VTIMEZONE
TZID:Europe/Zurich
BEGIN:DAYLIGHT
TZOFFSETFROM:+0100
TZOFFSETTO:+0200
TZNAME:CEST
DTSTART:20250330T010000
END:DAYLIGHT
BEGIN:STANDARD
TZOFFSETFROM:+0200
TZOFFSETTO:+0100
TZNAME:CET
DTSTART:20251026T010000
END:STANDARD
BEGIN:DAYLIGHT
TZOFFSETFROM:+0100
TZOFFSETTO:+0200
TZNAME:CEST
DTSTART:20260329T010000
END:DAYLIGHT
BEGIN:STANDARD
TZOFFSETFROM:+0200
TZOFFSETTO:+0100
TZNAME:CET
DTSTART:20261025T010000
END:STANDARD
BEGIN:DAYLIGHT
TZOFFSETFROM:+0100
TZOFFSETTO:+0200
TZNAME:CEST
DTSTART:20270328T010000
END:DAYLIGHT
BEGIN:STANDARD
TZOFFSETFROM:+0200
TZOFFSETTO:+0100
TZNAME:CET
DTSTART:20271031T010000
END:STANDARD
END:VTIMEZONE
BEGIN:VEVENT
DTSTART;TZID=Europe/Zurich:20260429T193000
DTEND;TZID=Europe/Zurich:20260429T213000
DTSTAMP:20260424T024953
CREATED:20260115T110740Z
LAST-MODIFIED:20260421T124628Z
UID:825-1777491000-1777498200@gewerkschaftenbern.ch
SUMMARY:GSB Delegiertenversammlung (HV)
DESCRIPTION:
URL:https://gewerkschaftenbern.ch/event/gsb-delegiertenversammlung-hv-2/
LOCATION:Gasthof Tiefenau\, am Bahnhof Worblaufen\, Alte Tiefenaustrasse 4\, Worblaufen\, 3048
END:VEVENT
BEGIN:VEVENT
DTSTART;VALUE=DATE:20260501
DTEND;VALUE=DATE:20260502
DTSTAMP:20260424T024953
CREATED:20260421T124219Z
LAST-MODIFIED:20260421T130740Z
UID:974-1777593600-1777679999@gewerkschaftenbern.ch
SUMMARY:1. Mai 2026 - verschiedene Veranstaltungen im Kanton Bern
DESCRIPTION:https://gewerkschaftenbern.ch/1-mai-2026-2/
URL:https://gewerkschaftenbern.ch/event/1-mai-206-verschiedene-veranstaltungen/
END:VEVENT
BEGIN:VEVENT
DTSTART;TZID=Europe/Zurich:20260507T173000
DTEND;TZID=Europe/Zurich:20260507T183000
DTSTAMP:20260424T024953
CREATED:20260421T123523Z
LAST-MODIFIED:20260421T123523Z
UID:968-1778175000-1778178600@gewerkschaftenbern.ch
SUMMARY:GKB Delegiertenversammlung
DESCRIPTION:
URL:https://gewerkschaftenbern.ch/event/gkb-delegiertenversammlung-3/
LOCATION:Kongresshaus Biel/Bienne\, Vereinssaal\, Zentralstrasse 60\, Biel/Bienne\, 2501\, Switzerland
END:VEVENT
BEGIN:VEVENT
DTSTART;TZID=Europe/Zurich:20260507T190000
DTEND;TZID=Europe/Zurich:20260507T210000
DTSTAMP:20260424T024953
CREATED:20260421T124012Z
LAST-MODIFIED:20260421T131000Z
UID:971-1778180400-1778187600@gewerkschaftenbern.ch
SUMMARY:Podium zur Chaosinitiative / Öffentliche Veranstaltung
DESCRIPTION:Tiefere Löhne\, weniger Rechte\, Wirtschaftskrise\nPodium zur Chaos-Initiative mit Pierre-Yves Maillard\, SGB-Präsident und SP Ständerat und Claudine Esseiva\, Unternehmerin und FDP Grossrätin Kt. Bern\n 
URL:https://gewerkschaftenbern.ch/event/podium-zur-chaosinitiative/
LOCATION:Kongresshaus Biel/Bienne\, Vereinssaal\, Zentralstrasse 60\, Biel/Bienne\, 2501\, Switzerland
END:VEVENT
BEGIN:VEVENT
DTSTART;TZID=Europe/Zurich:20260508T153000
DTEND;TZID=Europe/Zurich:20260508T170000
DTSTAMP:20260424T024953
CREATED:20260212T144804Z
LAST-MODIFIED:20260212T144804Z
UID:874-1778254200-1778259600@gewerkschaftenbern.ch
SUMMARY:Infoanlass "Nein zur Chaos-Initiative"
DESCRIPTION:mit Maya Weber Hadorn (SP) \nohne Anmeldung \nRentnerinnen und Rentner des GSB
URL:https://gewerkschaftenbern.ch/event/infoanlass-nein-zur-chaos-initiative/
LOCATION:Party Service Bracher AG\, Jegenstorf\, Bernstrasse 39\, Jegenstorf\, 3303
END:VEVENT
BEGIN:VEVENT
DTSTART;TZID=Europe/Zurich:20260513T123000
DTEND;TZID=Europe/Zurich:20260513T140000
DTSTAMP:20260424T024953
CREATED:20260115T111503Z
LAST-MODIFIED:20260115T111503Z
UID:828-1778675400-1778680800@gewerkschaftenbern.ch
SUMMARY:GSB Vorstandsitzung
DESCRIPTION:
URL:https://gewerkschaftenbern.ch/event/gsb-vorstandsitzung-3/
LOCATION:SGB Sitzungszimmer
END:VEVENT
BEGIN:VEVENT
DTSTART;TZID=Europe/Zurich:20260519T140000
DTEND;TZID=Europe/Zurich:20260519T160000
DTSTAMP:20260424T024953
CREATED:20260212T145608Z
LAST-MODIFIED:20260212T145612Z
UID:878-1779199200-1779206400@gewerkschaftenbern.ch
SUMMARY:Infoanlass "Nein zur Chaos-Initiative"
DESCRIPTION:mit Einführungen von Beat Jurt und Roland Schiesser \nohne Anmeldung \nRentnerinnen und Rentner des GSB
URL:https://gewerkschaftenbern.ch/event/infoanlass-nein-zur-chaos-initiative-2/
LOCATION:Verein Schlossstrasse 5 (ehem. Freizythuus)\, Schlossstrasse 5\, Münsingen\, 3110
END:VEVENT
BEGIN:VEVENT
DTSTART;TZID=Europe/Zurich:20260604T170000
DTEND;TZID=Europe/Zurich:20260604T210000
DTSTAMP:20260424T024953
CREATED:20260421T131537Z
LAST-MODIFIED:20260421T131537Z
UID:986-1780592400-1780606800@gewerkschaftenbern.ch
SUMMARY:FAK - Delegiertenversammlung
DESCRIPTION:
URL:https://gewerkschaftenbern.ch/event/fak-delegiertenversammlung/
LOCATION:Bern
END:VEVENT
BEGIN:VEVENT
DTSTART;TZID=Europe/Zurich:20260619T090000
DTEND;TZID=Europe/Zurich:20260619T170000
DTSTAMP:20260424T024953
CREATED:20260115T111601Z
LAST-MODIFIED:20260115T111601Z
UID:830-1781859600-1781888400@gewerkschaftenbern.ch
SUMMARY:GKB Vorstand-Klausur
DESCRIPTION:
URL:https://gewerkschaftenbern.ch/event/gkb-vorstand-klausur-2/
LOCATION:Bern
END:VEVENT
BEGIN:VEVENT
DTSTART;TZID=Europe/Zurich:20260624T123000
DTEND;TZID=Europe/Zurich:20260624T140000
DTSTAMP:20260424T024953
CREATED:20260115T111649Z
LAST-MODIFIED:20260115T111649Z
UID:832-1782304200-1782309600@gewerkschaftenbern.ch
SUMMARY:GSB Vorstandsitzung
DESCRIPTION:
URL:https://gewerkschaftenbern.ch/event/gsb-vorstandsitzung-4/
LOCATION:SGB Sitzungszimmer
END:VEVENT
BEGIN:VEVENT
DTSTART;TZID=Europe/Zurich:20260821T090000
DTEND;TZID=Europe/Zurich:20260821T140000
DTSTAMP:20260424T024953
CREATED:20260115T111752Z
LAST-MODIFIED:20260115T111752Z
UID:834-1787302800-1787320800@gewerkschaftenbern.ch
SUMMARY:GSB Vorstand-Klausur
DESCRIPTION:
URL:https://gewerkschaftenbern.ch/event/gsb-vorstand-klausur-2/
LOCATION:Bern
END:VEVENT
BEGIN:VEVENT
DTSTART;TZID=Europe/Zurich:20260826T184500
DTEND;TZID=Europe/Zurich:20260826T204500
DTSTAMP:20260424T024953
CREATED:20260115T112203Z
LAST-MODIFIED:20260115T112203Z
UID:842-1787769900-1787777100@gewerkschaftenbern.ch
SUMMARY:GKB Vorstandsitzung
DESCRIPTION:
URL:https://gewerkschaftenbern.ch/event/gkb-vorstandsitzung-4/
LOCATION:Bern
END:VEVENT
BEGIN:VEVENT
DTSTART;TZID=Europe/Zurich:20260902T193000
DTEND;TZID=Europe/Zurich:20260902T213000
DTSTAMP:20260424T024953
CREATED:20260115T111840Z
LAST-MODIFIED:20260115T111840Z
UID:836-1788377400-1788384600@gewerkschaftenbern.ch
SUMMARY:GSB Delegiertenversammlung
DESCRIPTION:
URL:https://gewerkschaftenbern.ch/event/gsb-delegiertenversammlung-8/
LOCATION:Hotel Bern\, Zeughausgasse 9\, Bern
END:VEVENT
BEGIN:VEVENT
DTSTART;TZID=Europe/Zurich:20260916T123000
DTEND;TZID=Europe/Zurich:20260916T140000
DTSTAMP:20260424T024953
CREATED:20260115T111932Z
LAST-MODIFIED:20260115T111932Z
UID:838-1789561800-1789567200@gewerkschaftenbern.ch
SUMMARY:GSB Vorstandsitzung
DESCRIPTION:
URL:https://gewerkschaftenbern.ch/event/gsb-vorstandsitzung-5/
LOCATION:GSB Sekretariat
END:VEVENT
BEGIN:VEVENT
DTSTART;TZID=Europe/Zurich:20261014T123000
DTEND;TZID=Europe/Zurich:20261014T140000
DTSTAMP:20260424T024953
CREATED:20260115T112028Z
LAST-MODIFIED:20260115T112028Z
UID:840-1791981000-1791986400@gewerkschaftenbern.ch
SUMMARY:GSB Vorstandsitzung
DESCRIPTION:
URL:https://gewerkschaftenbern.ch/event/gsb-vorstandsitzung-6/
LOCATION:SGB Sitzungszimmer
END:VEVENT
BEGIN:VEVENT
DTSTART;TZID=Europe/Zurich:20261021T184500
DTEND;TZID=Europe/Zurich:20261021T204500
DTSTAMP:20260424T024953
CREATED:20260115T112256Z
LAST-MODIFIED:20260115T112256Z
UID:844-1792608300-1792615500@gewerkschaftenbern.ch
SUMMARY:GKB Vorstandsitzung
DESCRIPTION:
URL:https://gewerkschaftenbern.ch/event/gkb-vorstandsitzung-5/
LOCATION:Hotel Bern\, Zeughausgasse 9\, Bern
END:VEVENT
BEGIN:VEVENT
DTSTART;TZID=Europe/Zurich:20261104T193000
DTEND;TZID=Europe/Zurich:20261104T213000
DTSTAMP:20260424T024953
CREATED:20260115T112351Z
LAST-MODIFIED:20260115T112351Z
UID:846-1793820600-1793827800@gewerkschaftenbern.ch
SUMMARY:GSB Delegiertenversammlung
DESCRIPTION:
URL:https://gewerkschaftenbern.ch/event/gsb-delegiertenversammlung-9/
LOCATION:Hotel Bern\, Zeughausgasse 9\, Bern
END:VEVENT
BEGIN:VEVENT
DTSTART;TZID=Europe/Zurich:20261106T080000
DTEND;TZID=Europe/Zurich:20261106T170000
DTSTAMP:20260424T024953
CREATED:20260115T112438Z
LAST-MODIFIED:20260115T112438Z
UID:848-1793952000-1793984400@gewerkschaftenbern.ch
SUMMARY:GKB - Arbeitsgerichtliche Tagung
DESCRIPTION:
URL:https://gewerkschaftenbern.ch/event/gkb-arbeitsgerichtliche-tagung/
LOCATION:Bern
END:VEVENT
BEGIN:VEVENT
DTSTART;TZID=Europe/Zurich:20261125T171500
DTEND;TZID=Europe/Zurich:20261125T184500
DTSTAMP:20260424T024953
CREATED:20260115T112539Z
LAST-MODIFIED:20260115T112539Z
UID:850-1795626900-1795632300@gewerkschaftenbern.ch
SUMMARY:GSB Vorstandsitzung
DESCRIPTION:
URL:https://gewerkschaftenbern.ch/event/gsb-vorstandsitzung-7/
LOCATION:SGB Sitzungszimmer
END:VEVENT
BEGIN:VEVENT
DTSTART;TZID=Europe/Zurich:20261128T090000
DTEND;TZID=Europe/Zurich:20261128T123000
DTSTAMP:20260424T024953
CREATED:20260115T112625Z
LAST-MODIFIED:20260115T112625Z
UID:852-1795856400-1795869000@gewerkschaftenbern.ch
SUMMARY:GKB a.o. Delegiertenversammlung
DESCRIPTION:
URL:https://gewerkschaftenbern.ch/event/gkb-a-o-delegiertenversammlung-2/
LOCATION:Bern
END:VEVENT
BEGIN:VEVENT
DTSTART;TZID=Europe/Zurich:20261209T184500
DTEND;TZID=Europe/Zurich:20261209T204500
DTSTAMP:20260424T024953
CREATED:20260115T112727Z
LAST-MODIFIED:20260115T112727Z
UID:854-1796841900-1796849100@gewerkschaftenbern.ch
SUMMARY:GKB Vorstandsitzung
DESCRIPTION:
URL:https://gewerkschaftenbern.ch/event/gkb-vorstandsitzung-6/
LOCATION:Hotel Bern\, Zeughausgasse 9\, Bern
END:VEVENT
END:VCALENDAR